BEGIN:VCALENDAR
VERSION:2.0
PRODID:-//City Impact - ECPv6.15.18//NONSGML v1.0//EN
CALSCALE:GREGORIAN
METHOD:PUBLISH
X-ORIGINAL-URL:https://cityimpact.flawlesswebsites.com
X-WR-CALDESC:Events for City Impact
REFRESH-INTERVAL;VALUE=DURATION:PT1H
X-Robots-Tag:noindex
X-PUBLISHED-TTL:PT1H
BEGIN:VTIMEZONE
TZID:America/Chicago
BEGIN:DAYLIGHT
TZOFFSETFROM:-0600
TZOFFSETTO:-0500
TZNAME:CDT
DTSTART:20230312T080000
END:DAYLIGHT
BEGIN:STANDARD
TZOFFSETFROM:-0500
TZOFFSETTO:-0600
TZNAME:CST
DTSTART:20231105T070000
END:STANDARD
BEGIN:DAYLIGHT
TZOFFSETFROM:-0600
TZOFFSETTO:-0500
TZNAME:CDT
DTSTART:20240310T080000
END:DAYLIGHT
BEGIN:STANDARD
TZOFFSETFROM:-0500
TZOFFSETTO:-0600
TZNAME:CST
DTSTART:20241103T070000
END:STANDARD
BEGIN:DAYLIGHT
TZOFFSETFROM:-0600
TZOFFSETTO:-0500
TZNAME:CDT
DTSTART:20250309T080000
END:DAYLIGHT
BEGIN:STANDARD
TZOFFSETFROM:-0500
TZOFFSETTO:-0600
TZNAME:CST
DTSTART:20251102T070000
END:STANDARD
BEGIN:DAYLIGHT
TZOFFSETFROM:-0600
TZOFFSETTO:-0500
TZNAME:CDT
DTSTART:20260308T080000
END:DAYLIGHT
BEGIN:STANDARD
TZOFFSETFROM:-0500
TZOFFSETTO:-0600
TZNAME:CST
DTSTART:20261101T070000
END:STANDARD
END:VTIMEZONE
BEGIN:VEVENT
DTSTART;TZID=America/Chicago:20250714T183000
DTEND;TZID=America/Chicago:20250714T203000
DTSTAMP:20260425T191456
CREATED:20250509T161548Z
LAST-MODIFIED:20250612T191205Z
UID:252481-1752517800-1752525000@cityimpact.flawlesswebsites.com
SUMMARY:CI Sports: Pass It On Camp w/ Coach Ron Brown 2025
DESCRIPTION:Register your kids for CI Sports Camp on June 14–15 at City Impact! This two-day camp combines skill-building\, teamwork\, and faith through fun and engaging football and volleyball sessions. Open to boys and girls in grades 3–8\, CI Sports Camp is a great way for youth to grow athletically and spiritually in a supportive environment. \nRegistration opens Saturday\, May 10th.
URL:https://cityimpact.flawlesswebsites.com/event/ci-sports-pass-it-on-camp-w-coach-ron-brown-2025-old/
LOCATION:City Impact\, 1035 North 33rd Street\, Lincoln\, NE\, 68503\, United States
CATEGORIES:CI Sports
ORGANIZER;CN="City Impact":MAILTO:info@cityimpact.org
END:VEVENT
BEGIN:VEVENT
DTSTART;TZID=America/Chicago:20250714T183000
DTEND;TZID=America/Chicago:20250714T203000
DTSTAMP:20260425T191456
CREATED:20250509T161548Z
LAST-MODIFIED:20250612T191205Z
UID:252481-1752517800-1752525000@cityimpact.flawlesswebsites.com
SUMMARY:CI Sports: Pass It On Camp w/ Coach Ron Brown 2025
DESCRIPTION:Register your kids for CI Sports Camp on June 14–15 at City Impact! This two-day camp combines skill-building\, teamwork\, and faith through fun and engaging football and volleyball sessions. Open to boys and girls in grades 3–8\, CI Sports Camp is a great way for youth to grow athletically and spiritually in a supportive environment. \nRegistration opens Saturday\, May 10th.
URL:https://cityimpact.flawlesswebsites.com/event/ci-sports-pass-it-on-camp-w-coach-ron-brown-2025-old/
LOCATION:City Impact\, 1035 North 33rd Street\, Lincoln\, NE\, 68503\, United States
CATEGORIES:CI Sports
ORGANIZER;CN="City Impact":MAILTO:info@cityimpact.org
END:VEVENT
BEGIN:VEVENT
DTSTART;TZID=America/Chicago:20240715T183000
DTEND;TZID=America/Chicago:20240715T203000
DTSTAMP:20260425T191456
CREATED:20240503T003347Z
LAST-MODIFIED:20240607T144650Z
UID:251167-1721068200-1721075400@cityimpact.flawlesswebsites.com
SUMMARY:CI Sports: Pass It On Camp w/ Coach Ron Brown
DESCRIPTION:In partnership with Coach Ron Brown we are excited to offer Kingdom Sports Pass It On Camp. A 2-Day athletics camp featuring a unique blend of faith\, fellowship\, and athletic activities to create lasting memories and deepen your child’s spiritual journey. \n \nLearn More
URL:https://cityimpact.flawlesswebsites.com/event/ci-sports-pass-it-on-camp-w-coach-ron-brown/
LOCATION:City Impact\, 1035 North 33rd Street\, Lincoln\, NE\, 68503\, United States
CATEGORIES:CI Sports
ORGANIZER;CN="City Impact":MAILTO:info@cityimpact.org
END:VEVENT
BEGIN:VEVENT
DTSTART;TZID=America/Chicago:20240715T183000
DTEND;TZID=America/Chicago:20240715T203000
DTSTAMP:20260425T191456
CREATED:20240503T003347Z
LAST-MODIFIED:20240607T144650Z
UID:251167-1721068200-1721075400@cityimpact.flawlesswebsites.com
SUMMARY:CI Sports: Pass It On Camp w/ Coach Ron Brown
DESCRIPTION:In partnership with Coach Ron Brown we are excited to offer Kingdom Sports Pass It On Camp. A 2-Day athletics camp featuring a unique blend of faith\, fellowship\, and athletic activities to create lasting memories and deepen your child’s spiritual journey. \n \nLearn More
URL:https://cityimpact.flawlesswebsites.com/event/ci-sports-pass-it-on-camp-w-coach-ron-brown/
LOCATION:City Impact\, 1035 North 33rd Street\, Lincoln\, NE\, 68503\, United States
CATEGORIES:CI Sports
ORGANIZER;CN="City Impact":MAILTO:info@cityimpact.org
END:VEVENT
END:VCALENDAR