BEGIN:VCALENDAR
VERSION:2.0
PRODID:-//City Impact - ECPv6.15.18//NONSGML v1.0//EN
CALSCALE:GREGORIAN
METHOD:PUBLISH
X-WR-CALNAME:City Impact
X-ORIGINAL-URL:https://cityimpact.flawlesswebsites.com
X-WR-CALDESC:Events for City Impact
REFRESH-INTERVAL;VALUE=DURATION:PT1H
X-Robots-Tag:noindex
X-PUBLISHED-TTL:PT1H
BEGIN:VTIMEZONE
TZID:America/Chicago
BEGIN:DAYLIGHT
TZOFFSETFROM:-0600
TZOFFSETTO:-0500
TZNAME:CDT
DTSTART:20230312T080000
END:DAYLIGHT
BEGIN:STANDARD
TZOFFSETFROM:-0500
TZOFFSETTO:-0600
TZNAME:CST
DTSTART:20231105T070000
END:STANDARD
BEGIN:DAYLIGHT
TZOFFSETFROM:-0600
TZOFFSETTO:-0500
TZNAME:CDT
DTSTART:20240310T080000
END:DAYLIGHT
BEGIN:STANDARD
TZOFFSETFROM:-0500
TZOFFSETTO:-0600
TZNAME:CST
DTSTART:20241103T070000
END:STANDARD
BEGIN:DAYLIGHT
TZOFFSETFROM:-0600
TZOFFSETTO:-0500
TZNAME:CDT
DTSTART:20250309T080000
END:DAYLIGHT
BEGIN:STANDARD
TZOFFSETFROM:-0500
TZOFFSETTO:-0600
TZNAME:CST
DTSTART:20251102T070000
END:STANDARD
BEGIN:DAYLIGHT
TZOFFSETFROM:-0600
TZOFFSETTO:-0500
TZNAME:CDT
DTSTART:20260308T080000
END:DAYLIGHT
BEGIN:STANDARD
TZOFFSETFROM:-0500
TZOFFSETTO:-0600
TZNAME:CST
DTSTART:20261101T070000
END:STANDARD
END:VTIMEZONE
BEGIN:VEVENT
DTSTART;TZID=America/Chicago:20250908T170000
DTEND;TZID=America/Chicago:20250908T190000
DTSTAMP:20260425T143559
CREATED:20250114T115145Z
LAST-MODIFIED:20250508T212545Z
UID:252322-1757350800-1757358000@cityimpact.flawlesswebsites.com
SUMMARY:CI Literacy (2025 Fall Session)
DESCRIPTION:The CI Literacy Program empowers young readers through one-on-one support\, engaging activities\, and a focus on confidence-building. This fall session serves students in grades K–8.
URL:https://cityimpact.flawlesswebsites.com/event/ci-literacy-2025-fall-session/
LOCATION:City Impact\, 1035 North 33rd Street\, Lincoln\, NE\, 68503\, United States
CATEGORIES:CI Academy
ORGANIZER;CN="City Impact":MAILTO:info@cityimpact.org
END:VEVENT
BEGIN:VEVENT
DTSTART;TZID=America/Chicago:20250909T170000
DTEND;TZID=America/Chicago:20250909T190000
DTSTAMP:20260425T143559
CREATED:20250114T120042Z
LAST-MODIFIED:20250509T163808Z
UID:252326-1757437200-1757444400@cityimpact.flawlesswebsites.com
SUMMARY:Kingdom Kids (2025 Fall Session)
DESCRIPTION:Kingdom Kids is a fun\, faith-based program where students in grades K–8 grow spiritually through interactive Bible lessons\, worship\, games\, and more. \nTo register email Andrea at: amailand@cityimpact.org.
URL:https://cityimpact.flawlesswebsites.com/event/kingdom-kids-2025-fall-session/
LOCATION:City Impact\, 1035 North 33rd Street\, Lincoln\, NE\, 68503\, United States
CATEGORIES:CI Academy
ORGANIZER;CN="City Impact":MAILTO:info@cityimpact.org
END:VEVENT
BEGIN:VEVENT
DTSTART;TZID=America/Chicago:20250908T170000
DTEND;TZID=America/Chicago:20250908T190000
DTSTAMP:20260425T143559
CREATED:20250114T115145Z
LAST-MODIFIED:20250508T212545Z
UID:252322-1757350800-1757358000@cityimpact.flawlesswebsites.com
SUMMARY:CI Literacy (2025 Fall Session)
DESCRIPTION:The CI Literacy Program empowers young readers through one-on-one support\, engaging activities\, and a focus on confidence-building. This fall session serves students in grades K–8.
URL:https://cityimpact.flawlesswebsites.com/event/ci-literacy-2025-fall-session/
LOCATION:City Impact\, 1035 North 33rd Street\, Lincoln\, NE\, 68503\, United States
CATEGORIES:CI Academy
ORGANIZER;CN="City Impact":MAILTO:info@cityimpact.org
END:VEVENT
BEGIN:VEVENT
DTSTART;TZID=America/Chicago:20250909T170000
DTEND;TZID=America/Chicago:20250909T190000
DTSTAMP:20260425T143559
CREATED:20250114T120042Z
LAST-MODIFIED:20250509T163808Z
UID:252326-1757437200-1757444400@cityimpact.flawlesswebsites.com
SUMMARY:Kingdom Kids (2025 Fall Session)
DESCRIPTION:Kingdom Kids is a fun\, faith-based program where students in grades K–8 grow spiritually through interactive Bible lessons\, worship\, games\, and more. \nTo register email Andrea at: amailand@cityimpact.org.
URL:https://cityimpact.flawlesswebsites.com/event/kingdom-kids-2025-fall-session/
LOCATION:City Impact\, 1035 North 33rd Street\, Lincoln\, NE\, 68503\, United States
CATEGORIES:CI Academy
ORGANIZER;CN="City Impact":MAILTO:info@cityimpact.org
END:VEVENT
BEGIN:VEVENT
DTSTART;TZID=America/Chicago:20250908T170000
DTEND;TZID=America/Chicago:20250908T190000
DTSTAMP:20260425T143559
CREATED:20250114T115145Z
LAST-MODIFIED:20250508T212545Z
UID:252322-1757350800-1757358000@cityimpact.flawlesswebsites.com
SUMMARY:CI Literacy (2025 Fall Session)
DESCRIPTION:The CI Literacy Program empowers young readers through one-on-one support\, engaging activities\, and a focus on confidence-building. This fall session serves students in grades K–8.
URL:https://cityimpact.flawlesswebsites.com/event/ci-literacy-2025-fall-session/
LOCATION:City Impact\, 1035 North 33rd Street\, Lincoln\, NE\, 68503\, United States
CATEGORIES:CI Academy
ORGANIZER;CN="City Impact":MAILTO:info@cityimpact.org
END:VEVENT
BEGIN:VEVENT
DTSTART;TZID=America/Chicago:20250909T170000
DTEND;TZID=America/Chicago:20250909T190000
DTSTAMP:20260425T143559
CREATED:20250114T120042Z
LAST-MODIFIED:20250509T163808Z
UID:252326-1757437200-1757444400@cityimpact.flawlesswebsites.com
SUMMARY:Kingdom Kids (2025 Fall Session)
DESCRIPTION:Kingdom Kids is a fun\, faith-based program where students in grades K–8 grow spiritually through interactive Bible lessons\, worship\, games\, and more. \nTo register email Andrea at: amailand@cityimpact.org.
URL:https://cityimpact.flawlesswebsites.com/event/kingdom-kids-2025-fall-session/
LOCATION:City Impact\, 1035 North 33rd Street\, Lincoln\, NE\, 68503\, United States
CATEGORIES:CI Academy
ORGANIZER;CN="City Impact":MAILTO:info@cityimpact.org
END:VEVENT
BEGIN:VEVENT
DTSTART;TZID=America/Chicago:20250908T170000
DTEND;TZID=America/Chicago:20250908T190000
DTSTAMP:20260425T143559
CREATED:20250114T115145Z
LAST-MODIFIED:20250508T212545Z
UID:252322-1757350800-1757358000@cityimpact.flawlesswebsites.com
SUMMARY:CI Literacy (2025 Fall Session)
DESCRIPTION:The CI Literacy Program empowers young readers through one-on-one support\, engaging activities\, and a focus on confidence-building. This fall session serves students in grades K–8.
URL:https://cityimpact.flawlesswebsites.com/event/ci-literacy-2025-fall-session/
LOCATION:City Impact\, 1035 North 33rd Street\, Lincoln\, NE\, 68503\, United States
CATEGORIES:CI Academy
ORGANIZER;CN="City Impact":MAILTO:info@cityimpact.org
END:VEVENT
BEGIN:VEVENT
DTSTART;TZID=America/Chicago:20250909T170000
DTEND;TZID=America/Chicago:20250909T190000
DTSTAMP:20260425T143559
CREATED:20250114T120042Z
LAST-MODIFIED:20250509T163808Z
UID:252326-1757437200-1757444400@cityimpact.flawlesswebsites.com
SUMMARY:Kingdom Kids (2025 Fall Session)
DESCRIPTION:Kingdom Kids is a fun\, faith-based program where students in grades K–8 grow spiritually through interactive Bible lessons\, worship\, games\, and more. \nTo register email Andrea at: amailand@cityimpact.org.
URL:https://cityimpact.flawlesswebsites.com/event/kingdom-kids-2025-fall-session/
LOCATION:City Impact\, 1035 North 33rd Street\, Lincoln\, NE\, 68503\, United States
CATEGORIES:CI Academy
ORGANIZER;CN="City Impact":MAILTO:info@cityimpact.org
END:VEVENT
BEGIN:VEVENT
DTSTART;TZID=America/Chicago:20250908T170000
DTEND;TZID=America/Chicago:20250908T190000
DTSTAMP:20260425T143559
CREATED:20250114T115145Z
LAST-MODIFIED:20250508T212545Z
UID:252322-1757350800-1757358000@cityimpact.flawlesswebsites.com
SUMMARY:CI Literacy (2025 Fall Session)
DESCRIPTION:The CI Literacy Program empowers young readers through one-on-one support\, engaging activities\, and a focus on confidence-building. This fall session serves students in grades K–8.
URL:https://cityimpact.flawlesswebsites.com/event/ci-literacy-2025-fall-session/
LOCATION:City Impact\, 1035 North 33rd Street\, Lincoln\, NE\, 68503\, United States
CATEGORIES:CI Academy
ORGANIZER;CN="City Impact":MAILTO:info@cityimpact.org
END:VEVENT
BEGIN:VEVENT
DTSTART;TZID=America/Chicago:20250909T170000
DTEND;TZID=America/Chicago:20250909T190000
DTSTAMP:20260425T143559
CREATED:20250114T120042Z
LAST-MODIFIED:20250509T163808Z
UID:252326-1757437200-1757444400@cityimpact.flawlesswebsites.com
SUMMARY:Kingdom Kids (2025 Fall Session)
DESCRIPTION:Kingdom Kids is a fun\, faith-based program where students in grades K–8 grow spiritually through interactive Bible lessons\, worship\, games\, and more. \nTo register email Andrea at: amailand@cityimpact.org.
URL:https://cityimpact.flawlesswebsites.com/event/kingdom-kids-2025-fall-session/
LOCATION:City Impact\, 1035 North 33rd Street\, Lincoln\, NE\, 68503\, United States
CATEGORIES:CI Academy
ORGANIZER;CN="City Impact":MAILTO:info@cityimpact.org
END:VEVENT
BEGIN:VEVENT
DTSTART;TZID=America/Chicago:20250908T170000
DTEND;TZID=America/Chicago:20250908T190000
DTSTAMP:20260425T143559
CREATED:20250114T115145Z
LAST-MODIFIED:20250508T212545Z
UID:252322-1757350800-1757358000@cityimpact.flawlesswebsites.com
SUMMARY:CI Literacy (2025 Fall Session)
DESCRIPTION:The CI Literacy Program empowers young readers through one-on-one support\, engaging activities\, and a focus on confidence-building. This fall session serves students in grades K–8.
URL:https://cityimpact.flawlesswebsites.com/event/ci-literacy-2025-fall-session/
LOCATION:City Impact\, 1035 North 33rd Street\, Lincoln\, NE\, 68503\, United States
CATEGORIES:CI Academy
ORGANIZER;CN="City Impact":MAILTO:info@cityimpact.org
END:VEVENT
BEGIN:VEVENT
DTSTART;TZID=America/Chicago:20250725T130000
DTEND;TZID=America/Chicago:20250725T160000
DTSTAMP:20260425T143559
CREATED:20250508T211522Z
LAST-MODIFIED:20250714T230112Z
UID:252589-1753448400-1753459200@cityimpact.flawlesswebsites.com
SUMMARY:CI Academy: 2025 STEAM Summer Learning Camp - July 25th
DESCRIPTION:Join City Impact this summer for an unparalleled adventure at our 2026 STEAM Learning Summer Camp\, where dreams become reality and endless possibilities await!\nCity Impact’s 2026 STEAM Summer Learning Camp offers hands-on fun that sparks creativity and critical thinking! Kids will explore science\, technology\, engineering\, art\, and math through interactive projects and engaging lessons—all in a supportive\, faith-filled environment.\n \nRegistration starts June 1\, 2025.
URL:https://cityimpact.flawlesswebsites.com/event/ci-academy-2025-steam-summer-learning-camp-july-25/
LOCATION:City Impact\, 1035 North 33rd Street\, Lincoln\, NE\, 68503\, United States
CATEGORIES:CI Academy
ORGANIZER;CN="City Impact":MAILTO:info@cityimpact.org
END:VEVENT
BEGIN:VEVENT
DTSTART;TZID=America/Chicago:20250724T130000
DTEND;TZID=America/Chicago:20250724T160000
DTSTAMP:20260425T143559
CREATED:20250508T211058Z
LAST-MODIFIED:20250714T230354Z
UID:252584-1753362000-1753372800@cityimpact.flawlesswebsites.com
SUMMARY:CI Academy: 2025 STEAM Summer Learning Camp - July 24th
DESCRIPTION:Join City Impact this summer for an unparalleled adventure at our 2026 STEAM Learning Summer Camp\, where dreams become reality and endless possibilities await!\nCity Impact’s 2026 STEAM Summer Learning Camp offers hands-on fun that sparks creativity and critical thinking! Kids will explore science\, technology\, engineering\, art\, and math through interactive projects and engaging lessons—all in a supportive\, faith-filled environment.\n \nRegistration starts June 1\, 2025.
URL:https://cityimpact.flawlesswebsites.com/event/ci-academy-2025-steam-summer-learning-camp-july-24/
LOCATION:City Impact\, 1035 North 33rd Street\, Lincoln\, NE\, 68503\, United States
CATEGORIES:CI Academy
ORGANIZER;CN="City Impact":MAILTO:info@cityimpact.org
END:VEVENT
BEGIN:VEVENT
DTSTART;TZID=America/Chicago:20250723T130000
DTEND;TZID=America/Chicago:20250723T160000
DTSTAMP:20260425T143559
CREATED:20250508T210429Z
LAST-MODIFIED:20250714T225007Z
UID:252579-1753275600-1753286400@cityimpact.flawlesswebsites.com
SUMMARY:CI Academy: 2025 STEAM Summer Learning Camp - July 23rd
DESCRIPTION:Join City Impact this summer for an unparalleled adventure at our 2026 STEAM Learning Summer Camp\, where dreams become reality and endless possibilities await!\nCity Impact’s 2026 STEAM Summer Learning Camp offers hands-on fun that sparks creativity and critical thinking! Kids will explore science\, technology\, engineering\, art\, and math through interactive projects and engaging lessons—all in a supportive\, faith-filled environment.\n \nRegistration starts June 1\, 2025.
URL:https://cityimpact.flawlesswebsites.com/event/ci-academy-2025-steam-summer-learning-camp-july-23rd/
LOCATION:City Impact\, 1035 North 33rd Street\, Lincoln\, NE\, 68503\, United States
CATEGORIES:CI Academy
ORGANIZER;CN="City Impact":MAILTO:info@cityimpact.org
END:VEVENT
BEGIN:VEVENT
DTSTART;TZID=America/Chicago:20250722T130000
DTEND;TZID=America/Chicago:20250722T160000
DTSTAMP:20260425T143559
CREATED:20250508T205521Z
LAST-MODIFIED:20250714T225543Z
UID:252573-1753189200-1753200000@cityimpact.flawlesswebsites.com
SUMMARY:CI Academy: 2025 STEAM Summer Learning Camp - July 22nd
DESCRIPTION:Join City Impact this summer for an unparalleled adventure at our 2026 STEAM Learning Summer Camp\, where dreams become reality and endless possibilities await!\nCity Impact’s 2026 STEAM Summer Learning Camp offers hands-on fun that sparks creativity and critical thinking! Kids will explore science\, technology\, engineering\, art\, and math through interactive projects and engaging lessons—all in a supportive\, faith-filled environment.\n \nRegistration starts June 1\, 2025.
URL:https://cityimpact.flawlesswebsites.com/event/ci-academy-2025-steam-summer-learning-camp-july-22/
LOCATION:City Impact\, 1035 North 33rd Street\, Lincoln\, NE\, 68503\, United States
CATEGORIES:CI Academy
ORGANIZER;CN="City Impact":MAILTO:info@cityimpact.org
END:VEVENT
BEGIN:VEVENT
DTSTART;TZID=America/Chicago:20250721T130000
DTEND;TZID=America/Chicago:20250721T160000
DTSTAMP:20260425T143559
CREATED:20250507T114107Z
LAST-MODIFIED:20250714T224610Z
UID:251390-1753102800-1753113600@cityimpact.flawlesswebsites.com
SUMMARY:CI Academy: 2025 STEAM Summer Learning Camp - July 21st
DESCRIPTION:Join City Impact this summer for an unparalleled adventure at our 2026 STEAM Learning Summer Camp\, where dreams become reality and endless possibilities await!\nCity Impact’s 2026 STEAM Summer Learning Camp offers hands-on fun that sparks creativity and critical thinking! Kids will explore science\, technology\, engineering\, art\, and math through interactive projects and engaging lessons—all in a supportive\, faith-filled environment. \nRegistration starts June 1\, 2025.
URL:https://cityimpact.flawlesswebsites.com/event/ci-academy-2025-steam-summer-learning-camp-july-21/
LOCATION:City Impact\, 1035 North 33rd Street\, Lincoln\, NE\, 68503\, United States
CATEGORIES:CI Academy
ORGANIZER;CN="City Impact":MAILTO:info@cityimpact.org
END:VEVENT
BEGIN:VEVENT
DTSTART;TZID=America/Chicago:20250714T183000
DTEND;TZID=America/Chicago:20250714T203000
DTSTAMP:20260425T143559
CREATED:20250509T161548Z
LAST-MODIFIED:20250612T191205Z
UID:252481-1752517800-1752525000@cityimpact.flawlesswebsites.com
SUMMARY:CI Sports: Pass It On Camp w/ Coach Ron Brown 2025
DESCRIPTION:Register your kids for CI Sports Camp on June 14–15 at City Impact! This two-day camp combines skill-building\, teamwork\, and faith through fun and engaging football and volleyball sessions. Open to boys and girls in grades 3–8\, CI Sports Camp is a great way for youth to grow athletically and spiritually in a supportive environment. \nRegistration opens Saturday\, May 10th.
URL:https://cityimpact.flawlesswebsites.com/event/ci-sports-pass-it-on-camp-w-coach-ron-brown-2025-old/
LOCATION:City Impact\, 1035 North 33rd Street\, Lincoln\, NE\, 68503\, United States
CATEGORIES:CI Sports
ORGANIZER;CN="City Impact":MAILTO:info@cityimpact.org
END:VEVENT
BEGIN:VEVENT
DTSTART;TZID=America/Chicago:20250714T183000
DTEND;TZID=America/Chicago:20250714T203000
DTSTAMP:20260425T143559
CREATED:20250509T161548Z
LAST-MODIFIED:20250612T191205Z
UID:252481-1752517800-1752525000@cityimpact.flawlesswebsites.com
SUMMARY:CI Sports: Pass It On Camp w/ Coach Ron Brown 2025
DESCRIPTION:Register your kids for CI Sports Camp on June 14–15 at City Impact! This two-day camp combines skill-building\, teamwork\, and faith through fun and engaging football and volleyball sessions. Open to boys and girls in grades 3–8\, CI Sports Camp is a great way for youth to grow athletically and spiritually in a supportive environment. \nRegistration opens Saturday\, May 10th.
URL:https://cityimpact.flawlesswebsites.com/event/ci-sports-pass-it-on-camp-w-coach-ron-brown-2025-old/
LOCATION:City Impact\, 1035 North 33rd Street\, Lincoln\, NE\, 68503\, United States
CATEGORIES:CI Sports
ORGANIZER;CN="City Impact":MAILTO:info@cityimpact.org
END:VEVENT
BEGIN:VEVENT
DTSTART;TZID=America/Chicago:20250714T000000
DTEND;TZID=America/Chicago:20250714T000000
DTSTAMP:20260425T143559
CREATED:20250521T081339Z
LAST-MODIFIED:20250714T225754Z
UID:252725-1752451200-1752451200@cityimpact.flawlesswebsites.com
SUMMARY:CI Academy: 2025 STEAM Summer Learning Camp - July 24th
DESCRIPTION:Join City Impact this summer for an unparalleled adventure at our 2026 STEAM Learning Summer Camp\, where dreams become reality and endless possibilities await!\nCity Impact’s 2026 STEAM Summer Learning Camp offers hands-on fun that sparks creativity and critical thinking! Kids will explore science\, technology\, engineering\, art\, and math through interactive projects and engaging lessons—all in a supportive\, faith-filled environment.\n \nRegistration starts June 1\, 2025.
URL:https://cityimpact.flawlesswebsites.com/event/ci-academy-2025-steam-summer-learning-camp-july-24-2/
LOCATION:NE
CATEGORIES:CI Academy
END:VEVENT
BEGIN:VEVENT
DTSTART;TZID=America/Chicago:20250623T180000
DTEND;TZID=America/Chicago:20250627T200000
DTSTAMP:20260425T143559
CREATED:20250529T173030Z
LAST-MODIFIED:20250529T173030Z
UID:252848-1750701600-1751054400@cityimpact.flawlesswebsites.com
SUMMARY:Vacation Bible School with Mercy City
DESCRIPTION:Get ready for a week of fun\, faith\, and adventure! City Impact and Mercy City Church are teaming up to host Vacation Bible School from June 23–27. Kids entering grades K–5 will enjoy Bible lessons\, music\, games\, and hands-on activities that inspire growth and connection. Don’t miss this exciting summer experience! Join us. It’s free!
URL:https://cityimpact.flawlesswebsites.com/event/vacation-bible-school-with-mercy-city-3/
LOCATION:City Impact\, 1035 North 33rd Street\, Lincoln\, NE\, 68503\, United States
CATEGORIES:CI Kingdom Living
ORGANIZER;CN="City Impact":MAILTO:info@cityimpact.org
END:VEVENT
BEGIN:VEVENT
DTSTART;TZID=America/Chicago:20250310T170000
DTEND;TZID=America/Chicago:20250310T190000
DTSTAMP:20260425T143559
CREATED:20250114T114159Z
LAST-MODIFIED:20250507T154853Z
UID:252314-1741626000-1741633200@cityimpact.flawlesswebsites.com
SUMMARY:CI Family Spring Carnival 2025
DESCRIPTION:Contact Kristy Goodwin via email at kgoodwin@cityimpact.org for more information.
URL:https://cityimpact.flawlesswebsites.com/event/city-impact-family-spring-carnival-2025/
LOCATION:City Impact\, 1035 North 33rd Street\, Lincoln\, NE\, 68503\, United States
CATEGORIES:CI Academy
ORGANIZER;CN="City Impact":MAILTO:info@cityimpact.org
END:VEVENT
BEGIN:VEVENT
DTSTART;TZID=America/Chicago:20240910T170000
DTEND;TZID=America/Chicago:20240910T190000
DTSTAMP:20260425T143559
CREATED:20240827T094738Z
LAST-MODIFIED:20240906T212027Z
UID:251375-1725987600-1725994800@cityimpact.flawlesswebsites.com
SUMMARY:Kingdom Kids (2024 Fall Session)
DESCRIPTION:Through our Kingdom Kids\, City Impact partners with parents in the discipleship of K– 8th-grade students to teach them to view themselves as God sees them and to help them develop the rhythms and discipline of a lifelong pursuit of Christ. \nKingdom Kids features playful activities\, prayer\, great Christian facilitators\, and an interactive game-based curriculum. \nTo register\, email Andrea at: amailand@cityimpact.org.
URL:https://cityimpact.flawlesswebsites.com/event/kingdom-kids-2024-fall-session/
LOCATION:City Impact\, 1035 North 33rd Street\, Lincoln\, NE\, 68503\, United States
CATEGORIES:CI Academy
ORGANIZER;CN="City Impact":MAILTO:info@cityimpact.org
END:VEVENT
BEGIN:VEVENT
DTSTART;TZID=America/Chicago:20240909T170000
DTEND;TZID=America/Chicago:20240909T190000
DTSTAMP:20260425T143559
CREATED:20240503T203809Z
LAST-MODIFIED:20240906T211212Z
UID:251207-1725901200-1725908400@cityimpact.flawlesswebsites.com
SUMMARY:Ci Literacy (2024 Fall Session)
DESCRIPTION:Unlock your child’s limitless potential through CI Literacy. Through CI Literacy\, we help children cultivate a love for reading\, enhance their critical thinking\, and strengthen their growth mindset through literary experiences. \nTo register\, email Jessica at: jbrinkmeyer@cityimpact.org.
URL:https://cityimpact.flawlesswebsites.com/event/ci-literacy-2024-fall-session/
LOCATION:City Impact\, 1035 North 33rd Street\, Lincoln\, NE\, 68503\, United States
CATEGORIES:CI Academy
ORGANIZER;CN="City Impact":MAILTO:info@cityimpact.org
END:VEVENT
BEGIN:VEVENT
DTSTART;TZID=America/Chicago:20241213T093000
DTEND;TZID=America/Chicago:20241213T200000
DTSTAMP:20260425T143559
CREATED:20240827T131040Z
LAST-MODIFIED:20250120T153957Z
UID:251231-1734082200-1734120000@cityimpact.flawlesswebsites.com
SUMMARY:Gifts of Love: Community Shopping Day
DESCRIPTION:For more than 25 years\, City Impact has provided Christmas with dignity to thousands of Lincoln families.\nThe Gifts of Love Christmas store offers quality presents at affordable prices to families in need.
URL:https://cityimpact.flawlesswebsites.com/event/gifts-of-love-community-shopping-day/
LOCATION:City Impact\, 1035 North 33rd Street\, Lincoln\, NE\, 68503\, United States
CATEGORIES:Gifts Of Love
ATTACH;FMTTYPE=image/jpeg:https://cityimpact.flawlesswebsites.com/wp-content/uploads/sites/71/2024/08/GOL-Logo-Events-Calendar-Image.jpg
ORGANIZER;CN="City Impact":MAILTO:info@cityimpact.org
END:VEVENT
BEGIN:VEVENT
DTSTART;TZID=America/Chicago:20241213T093000
DTEND;TZID=America/Chicago:20241213T200000
DTSTAMP:20260425T143559
CREATED:20240827T131040Z
LAST-MODIFIED:20250120T153957Z
UID:251231-1734082200-1734120000@cityimpact.flawlesswebsites.com
SUMMARY:Gifts of Love: Community Shopping Day
DESCRIPTION:For more than 25 years\, City Impact has provided Christmas with dignity to thousands of Lincoln families.\nThe Gifts of Love Christmas store offers quality presents at affordable prices to families in need.
URL:https://cityimpact.flawlesswebsites.com/event/gifts-of-love-community-shopping-day/
LOCATION:City Impact\, 1035 North 33rd Street\, Lincoln\, NE\, 68503\, United States
CATEGORIES:Gifts Of Love
ATTACH;FMTTYPE=image/jpeg:https://cityimpact.flawlesswebsites.com/wp-content/uploads/sites/71/2024/08/GOL-Logo-Events-Calendar-Image.jpg
ORGANIZER;CN="City Impact":MAILTO:info@cityimpact.org
END:VEVENT
BEGIN:VEVENT
DTSTART;TZID=America/Chicago:20241212T163000
DTEND;TZID=America/Chicago:20241212T193000
DTSTAMP:20260425T143559
CREATED:20240827T130654Z
LAST-MODIFIED:20240827T131859Z
UID:251227-1734021000-1734031800@cityimpact.flawlesswebsites.com
SUMMARY:Gifts of Love: Family Shopping Day
DESCRIPTION:For more than 25 years\, City Impact has provided Christmas with dignity to thousands of Lincoln families.\nThe Gifts of Love Christmas store offers quality presents at affordable prices to families in need.
URL:https://cityimpact.flawlesswebsites.com/event/gifts-of-love-family-shopping-day/
LOCATION:City Impact\, 1035 North 33rd Street\, Lincoln\, NE\, 68503\, United States
CATEGORIES:Gifts Of Love
ATTACH;FMTTYPE=image/jpeg:https://cityimpact.flawlesswebsites.com/wp-content/uploads/sites/71/2024/08/GOL-Logo-Events-Calendar-Image.jpg
ORGANIZER;CN="City Impact":MAILTO:info@cityimpact.org
END:VEVENT
BEGIN:VEVENT
DTSTART;TZID=America/Chicago:20240910T170000
DTEND;TZID=America/Chicago:20240910T190000
DTSTAMP:20260425T143559
CREATED:20240827T094738Z
LAST-MODIFIED:20240906T212027Z
UID:251375-1725987600-1725994800@cityimpact.flawlesswebsites.com
SUMMARY:Kingdom Kids (2024 Fall Session)
DESCRIPTION:Through our Kingdom Kids\, City Impact partners with parents in the discipleship of K– 8th-grade students to teach them to view themselves as God sees them and to help them develop the rhythms and discipline of a lifelong pursuit of Christ. \nKingdom Kids features playful activities\, prayer\, great Christian facilitators\, and an interactive game-based curriculum. \nTo register\, email Andrea at: amailand@cityimpact.org.
URL:https://cityimpact.flawlesswebsites.com/event/kingdom-kids-2024-fall-session/
LOCATION:City Impact\, 1035 North 33rd Street\, Lincoln\, NE\, 68503\, United States
CATEGORIES:CI Academy
ORGANIZER;CN="City Impact":MAILTO:info@cityimpact.org
END:VEVENT
BEGIN:VEVENT
DTSTART;TZID=America/Chicago:20241210T090000
DTEND;TZID=America/Chicago:20241210T200000
DTSTAMP:20260425T143559
CREATED:20240827T132216Z
LAST-MODIFIED:20240827T132216Z
UID:251223-1733821200-1733860800@cityimpact.flawlesswebsites.com
SUMMARY:Gifts of Love: Kids Shopping Day
DESCRIPTION:For more than 25 years\, City Impact has provided Christmas with dignity to thousands of Lincoln families.\nThe Gifts of Love Christmas store offers quality presents at affordable prices to families in need.
URL:https://cityimpact.flawlesswebsites.com/event/gifts-of-love-kids-shopping-day/
LOCATION:City Impact\, 1035 North 33rd Street\, Lincoln\, NE\, 68503\, United States
CATEGORIES:Gifts Of Love
ATTACH;FMTTYPE=image/jpeg:https://cityimpact.flawlesswebsites.com/wp-content/uploads/sites/71/2024/08/GOL-Logo-Events-Calendar-Image.jpg
ORGANIZER;CN="City Impact":MAILTO:info@cityimpact.org
END:VEVENT
BEGIN:VEVENT
DTSTART;TZID=America/Chicago:20240909T170000
DTEND;TZID=America/Chicago:20240909T190000
DTSTAMP:20260425T143559
CREATED:20240503T203809Z
LAST-MODIFIED:20240906T211212Z
UID:251207-1725901200-1725908400@cityimpact.flawlesswebsites.com
SUMMARY:Ci Literacy (2024 Fall Session)
DESCRIPTION:Unlock your child’s limitless potential through CI Literacy. Through CI Literacy\, we help children cultivate a love for reading\, enhance their critical thinking\, and strengthen their growth mindset through literary experiences. \nTo register\, email Jessica at: jbrinkmeyer@cityimpact.org.
URL:https://cityimpact.flawlesswebsites.com/event/ci-literacy-2024-fall-session/
LOCATION:City Impact\, 1035 North 33rd Street\, Lincoln\, NE\, 68503\, United States
CATEGORIES:CI Academy
ORGANIZER;CN="City Impact":MAILTO:info@cityimpact.org
END:VEVENT
BEGIN:VEVENT
DTSTART;TZID=America/Chicago:20240910T170000
DTEND;TZID=America/Chicago:20240910T190000
DTSTAMP:20260425T143559
CREATED:20240827T094738Z
LAST-MODIFIED:20240906T212027Z
UID:251375-1725987600-1725994800@cityimpact.flawlesswebsites.com
SUMMARY:Kingdom Kids (2024 Fall Session)
DESCRIPTION:Through our Kingdom Kids\, City Impact partners with parents in the discipleship of K– 8th-grade students to teach them to view themselves as God sees them and to help them develop the rhythms and discipline of a lifelong pursuit of Christ. \nKingdom Kids features playful activities\, prayer\, great Christian facilitators\, and an interactive game-based curriculum. \nTo register\, email Andrea at: amailand@cityimpact.org.
URL:https://cityimpact.flawlesswebsites.com/event/kingdom-kids-2024-fall-session/
LOCATION:City Impact\, 1035 North 33rd Street\, Lincoln\, NE\, 68503\, United States
CATEGORIES:CI Academy
ORGANIZER;CN="City Impact":MAILTO:info@cityimpact.org
END:VEVENT
END:VCALENDAR