BEGIN:VCALENDAR
VERSION:2.0
PRODID:-//City Impact - ECPv6.15.18//NONSGML v1.0//EN
CALSCALE:GREGORIAN
METHOD:PUBLISH
X-WR-CALNAME:City Impact
X-ORIGINAL-URL:https://cityimpact.flawlesswebsites.com
X-WR-CALDESC:Events for City Impact
REFRESH-INTERVAL;VALUE=DURATION:PT1H
X-Robots-Tag:noindex
X-PUBLISHED-TTL:PT1H
BEGIN:VTIMEZONE
TZID:America/Chicago
BEGIN:DAYLIGHT
TZOFFSETFROM:-0600
TZOFFSETTO:-0500
TZNAME:CDT
DTSTART:20230312T080000
END:DAYLIGHT
BEGIN:STANDARD
TZOFFSETFROM:-0500
TZOFFSETTO:-0600
TZNAME:CST
DTSTART:20231105T070000
END:STANDARD
BEGIN:DAYLIGHT
TZOFFSETFROM:-0600
TZOFFSETTO:-0500
TZNAME:CDT
DTSTART:20240310T080000
END:DAYLIGHT
BEGIN:STANDARD
TZOFFSETFROM:-0500
TZOFFSETTO:-0600
TZNAME:CST
DTSTART:20241103T070000
END:STANDARD
BEGIN:DAYLIGHT
TZOFFSETFROM:-0600
TZOFFSETTO:-0500
TZNAME:CDT
DTSTART:20250309T080000
END:DAYLIGHT
BEGIN:STANDARD
TZOFFSETFROM:-0500
TZOFFSETTO:-0600
TZNAME:CST
DTSTART:20251102T070000
END:STANDARD
END:VTIMEZONE
BEGIN:VEVENT
DTSTART;TZID=America/Chicago:20240722T130000
DTEND;TZID=America/Chicago:20240722T160000
DTSTAMP:20260425T231340
CREATED:20240503T201307Z
LAST-MODIFIED:20240606T104211Z
UID:251122-1721653200-1721664000@cityimpact.flawlesswebsites.com
SUMMARY:CI Academy: STEAM Summer Learning Camp
DESCRIPTION:Join City Impact this summer for an unparalleled adventure at our STEAM Learning Summer Camp\, where dreams become reality and endless possibilities await!\n\n  \nLearn More\n 
URL:https://cityimpact.flawlesswebsites.com/event/ci-academy-steam-summer-learning-camp-94/
LOCATION:City Impact\, 1035 North 33rd Street\, Lincoln\, NE\, 68503\, United States
CATEGORIES:CI Academy
ORGANIZER;CN="City Impact":MAILTO:info@cityimpact.org
END:VEVENT
BEGIN:VEVENT
DTSTART;TZID=America/Chicago:20240715T183000
DTEND;TZID=America/Chicago:20240715T203000
DTSTAMP:20260425T231340
CREATED:20240503T003347Z
LAST-MODIFIED:20240607T144650Z
UID:251167-1721068200-1721075400@cityimpact.flawlesswebsites.com
SUMMARY:CI Sports: Pass It On Camp w/ Coach Ron Brown
DESCRIPTION:In partnership with Coach Ron Brown we are excited to offer Kingdom Sports Pass It On Camp. A 2-Day athletics camp featuring a unique blend of faith\, fellowship\, and athletic activities to create lasting memories and deepen your child’s spiritual journey. \n \nLearn More
URL:https://cityimpact.flawlesswebsites.com/event/ci-sports-pass-it-on-camp-w-coach-ron-brown/
LOCATION:City Impact\, 1035 North 33rd Street\, Lincoln\, NE\, 68503\, United States
CATEGORIES:CI Sports
ORGANIZER;CN="City Impact":MAILTO:info@cityimpact.org
END:VEVENT
BEGIN:VEVENT
DTSTART;TZID=America/Chicago:20240715T183000
DTEND;TZID=America/Chicago:20240715T203000
DTSTAMP:20260425T231340
CREATED:20240503T003347Z
LAST-MODIFIED:20240607T144650Z
UID:251167-1721068200-1721075400@cityimpact.flawlesswebsites.com
SUMMARY:CI Sports: Pass It On Camp w/ Coach Ron Brown
DESCRIPTION:In partnership with Coach Ron Brown we are excited to offer Kingdom Sports Pass It On Camp. A 2-Day athletics camp featuring a unique blend of faith\, fellowship\, and athletic activities to create lasting memories and deepen your child’s spiritual journey. \n \nLearn More
URL:https://cityimpact.flawlesswebsites.com/event/ci-sports-pass-it-on-camp-w-coach-ron-brown/
LOCATION:City Impact\, 1035 North 33rd Street\, Lincoln\, NE\, 68503\, United States
CATEGORIES:CI Sports
ORGANIZER;CN="City Impact":MAILTO:info@cityimpact.org
END:VEVENT
BEGIN:VEVENT
DTSTART;VALUE=DATE:20240605
DTEND;VALUE=DATE:20240618
DTSTAMP:20260425T231340
CREATED:20240502T171215Z
LAST-MODIFIED:20240502T232649Z
UID:251140-1717545600-1718668799@cityimpact.flawlesswebsites.com
SUMMARY:CI Academy Summer Reading Challenge
DESCRIPTION:The CI Academy Summer Reading Challenge unlocks the power of reading and takes children on an exciting reading adventure this summer. \n \nLearn More
URL:https://cityimpact.flawlesswebsites.com/event/summer-reading-challenge/
LOCATION:TBA
CATEGORIES:CI Academy
ORGANIZER;CN="City Impact":MAILTO:info@cityimpact.org
END:VEVENT
BEGIN:VEVENT
DTSTART;VALUE=DATE:20240530
DTEND;VALUE=DATE:20240531
DTSTAMP:20260425T231340
CREATED:20240327T163614Z
LAST-MODIFIED:20240502T164438Z
UID:251091-1717027200-1717113599@cityimpact.flawlesswebsites.com
SUMMARY:On-Faith We Stand Campaign
DESCRIPTION:Join us in making a difference with our On Faith We Stand campaign. Our goal is to raise $150\,000 to support vital programs that empower youth and their families. Together\, on the foundation of faith\, we can create a brighter future for our community. Your support is the key to unlocking potential and nurturing growth. Stand with us\, contribute today\, and be a part of transforming lives.
URL:https://cityimpact.flawlesswebsites.com/event/on-faith-we-stand-campaign/
LOCATION:City Impact\, 1035 North 33rd Street\, Lincoln\, NE\, 68503\, United States
CATEGORIES:On-Faith We Stand
ORGANIZER;CN="City Impact":MAILTO:info@cityimpact.org
END:VEVENT
BEGIN:VEVENT
DTSTART;VALUE=DATE:20240529
DTEND;VALUE=DATE:20240530
DTSTAMP:20260425T231340
CREATED:20250507T112025Z
LAST-MODIFIED:20250507T112025Z
UID:251236-1716940800-1717027199@cityimpact.flawlesswebsites.com
SUMMARY:On Faith We Stand Giving Campaign 2025
DESCRIPTION:On May 29th\, we’re embarking on a significant journey with our all-day giving campaign\, “On Faith We Stand.” Our ambitious goal is to raise $150\,000 to support our mission. This day holds immense promise for us to create an even more significant impact in Lincoln.
URL:https://cityimpact.flawlesswebsites.com/event/on-faith-we-stand-giving-campaign-2025/
LOCATION:City Impact\, 1035 North 33rd Street\, Lincoln\, NE\, 68503\, United States
CATEGORIES:Fundraisers,On-Faith We Stand
ORGANIZER;CN="City Impact":MAILTO:info@cityimpact.org
END:VEVENT
END:VCALENDAR